BEGIN:VCALENDAR
VERSION:2.0
PRODID:-//Moncontour de Poitou dans la Vienne (86) - ECPv6.15.12.2//NONSGML v1.0//EN
CALSCALE:GREGORIAN
METHOD:PUBLISH
X-ORIGINAL-URL:https://www.moncontour-de-poitou.fr
X-WR-CALDESC:Évènements pour Moncontour de Poitou dans la Vienne (86)
REFRESH-INTERVAL;VALUE=DURATION:PT1H
X-Robots-Tag:noindex
X-PUBLISHED-TTL:PT1H
BEGIN:VTIMEZONE
TZID:Europe/Paris
BEGIN:DAYLIGHT
TZOFFSETFROM:+0100
TZOFFSETTO:+0200
TZNAME:CEST
DTSTART:20210328T010000
END:DAYLIGHT
BEGIN:STANDARD
TZOFFSETFROM:+0200
TZOFFSETTO:+0100
TZNAME:CET
DTSTART:20211031T010000
END:STANDARD
BEGIN:DAYLIGHT
TZOFFSETFROM:+0100
TZOFFSETTO:+0200
TZNAME:CEST
DTSTART:20220327T010000
END:DAYLIGHT
BEGIN:STANDARD
TZOFFSETFROM:+0200
TZOFFSETTO:+0100
TZNAME:CET
DTSTART:20221030T010000
END:STANDARD
BEGIN:DAYLIGHT
TZOFFSETFROM:+0100
TZOFFSETTO:+0200
TZNAME:CEST
DTSTART:20230326T010000
END:DAYLIGHT
BEGIN:STANDARD
TZOFFSETFROM:+0200
TZOFFSETTO:+0100
TZNAME:CET
DTSTART:20231029T010000
END:STANDARD
END:VTIMEZONE
BEGIN:VEVENT
DTSTART;VALUE=DATE:20220604
DTEND;VALUE=DATE:20220606
DTSTAMP:20260425T222451
CREATED:20220510T103948Z
LAST-MODIFIED:20220510T103948Z
UID:5653-1654300800-1654473599@www.moncontour-de-poitou.fr
SUMMARY:Salle polyvalente louée
DESCRIPTION:
URL:https://www.moncontour-de-poitou.fr/agenda/salle-polyvalente-louee-11/
CATEGORIES:MONCONTOUR : Salle Polyvalente
END:VEVENT
BEGIN:VEVENT
DTSTART;VALUE=DATE:20220611
DTEND;VALUE=DATE:20220612
DTSTAMP:20260425T222451
CREATED:20220510T104035Z
LAST-MODIFIED:20220510T104035Z
UID:5655-1654905600-1654991999@www.moncontour-de-poitou.fr
SUMMARY:Salle polyvalente louée
DESCRIPTION:
URL:https://www.moncontour-de-poitou.fr/agenda/salle-polyvalente-louee-13/
CATEGORIES:MONCONTOUR : Salle Polyvalente
END:VEVENT
BEGIN:VEVENT
DTSTART;VALUE=DATE:20220625
DTEND;VALUE=DATE:20220627
DTSTAMP:20260425T222451
CREATED:20220510T104213Z
LAST-MODIFIED:20220510T104213Z
UID:5659-1656115200-1656287999@www.moncontour-de-poitou.fr
SUMMARY:Salle polyvalente louée
DESCRIPTION:
URL:https://www.moncontour-de-poitou.fr/agenda/salle-polyvalente-louee-17/
CATEGORIES:MONCONTOUR : Salle Polyvalente
END:VEVENT
END:VCALENDAR