BEGIN:VCALENDAR
VERSION:2.0
PRODID:-//Moncontour de Poitou dans la Vienne (86) - ECPv6.15.12.2//NONSGML v1.0//EN
CALSCALE:GREGORIAN
METHOD:PUBLISH
X-ORIGINAL-URL:https://www.moncontour-de-poitou.fr
X-WR-CALDESC:Évènements pour Moncontour de Poitou dans la Vienne (86)
REFRESH-INTERVAL;VALUE=DURATION:PT1H
X-Robots-Tag:noindex
X-PUBLISHED-TTL:PT1H
BEGIN:VTIMEZONE
TZID:Europe/Paris
BEGIN:DAYLIGHT
TZOFFSETFROM:+0100
TZOFFSETTO:+0200
TZNAME:CEST
DTSTART:20210328T010000
END:DAYLIGHT
BEGIN:STANDARD
TZOFFSETFROM:+0200
TZOFFSETTO:+0100
TZNAME:CET
DTSTART:20211031T010000
END:STANDARD
BEGIN:DAYLIGHT
TZOFFSETFROM:+0100
TZOFFSETTO:+0200
TZNAME:CEST
DTSTART:20220327T010000
END:DAYLIGHT
BEGIN:STANDARD
TZOFFSETFROM:+0200
TZOFFSETTO:+0100
TZNAME:CET
DTSTART:20221030T010000
END:STANDARD
BEGIN:DAYLIGHT
TZOFFSETFROM:+0100
TZOFFSETTO:+0200
TZNAME:CEST
DTSTART:20230326T010000
END:DAYLIGHT
BEGIN:STANDARD
TZOFFSETFROM:+0200
TZOFFSETTO:+0100
TZNAME:CET
DTSTART:20231029T010000
END:STANDARD
END:VTIMEZONE
BEGIN:VEVENT
DTSTART;VALUE=DATE:20220702
DTEND;VALUE=DATE:20220704
DTSTAMP:20260425T210314
CREATED:20220510T104311Z
LAST-MODIFIED:20220510T104311Z
UID:5661-1656720000-1656892799@www.moncontour-de-poitou.fr
SUMMARY:Salle polyvalente louée
DESCRIPTION:
URL:https://www.moncontour-de-poitou.fr/agenda/salle-polyvalente-louee-18/
CATEGORIES:MONCONTOUR : Salle Polyvalente
END:VEVENT
BEGIN:VEVENT
DTSTART;VALUE=DATE:20220714
DTEND;VALUE=DATE:20220715
DTSTAMP:20260425T210314
CREATED:20220510T104447Z
LAST-MODIFIED:20220510T104447Z
UID:5665-1657756800-1657843199@www.moncontour-de-poitou.fr
SUMMARY:Salle polyvalente louée
DESCRIPTION:
URL:https://www.moncontour-de-poitou.fr/agenda/salle-polyvalente-louee-20/
CATEGORIES:MONCONTOUR : Salle Polyvalente
END:VEVENT
BEGIN:VEVENT
DTSTART;VALUE=DATE:20220722
DTEND;VALUE=DATE:20220725
DTSTAMP:20260425T210314
CREATED:20220510T104553Z
LAST-MODIFIED:20220510T104553Z
UID:5667-1658448000-1658707199@www.moncontour-de-poitou.fr
SUMMARY:Salle polyvalente louée
DESCRIPTION:
URL:https://www.moncontour-de-poitou.fr/agenda/salle-polyvalente-louee-21/
CATEGORIES:MONCONTOUR : Salle Polyvalente
END:VEVENT
END:VCALENDAR