BEGIN:VCALENDAR
VERSION:2.0
PRODID:-//Moncontour de Poitou dans la Vienne (86) - ECPv6.15.12.2//NONSGML v1.0//EN
CALSCALE:GREGORIAN
METHOD:PUBLISH
X-WR-CALNAME:Moncontour de Poitou dans la Vienne (86)
X-ORIGINAL-URL:https://www.moncontour-de-poitou.fr
X-WR-CALDESC:Évènements pour Moncontour de Poitou dans la Vienne (86)
REFRESH-INTERVAL;VALUE=DURATION:PT1H
X-Robots-Tag:noindex
X-PUBLISHED-TTL:PT1H
BEGIN:VTIMEZONE
TZID:Europe/Paris
BEGIN:DAYLIGHT
TZOFFSETFROM:+0100
TZOFFSETTO:+0200
TZNAME:CEST
DTSTART:20210328T010000
END:DAYLIGHT
BEGIN:STANDARD
TZOFFSETFROM:+0200
TZOFFSETTO:+0100
TZNAME:CET
DTSTART:20211031T010000
END:STANDARD
BEGIN:DAYLIGHT
TZOFFSETFROM:+0100
TZOFFSETTO:+0200
TZNAME:CEST
DTSTART:20220327T010000
END:DAYLIGHT
BEGIN:STANDARD
TZOFFSETFROM:+0200
TZOFFSETTO:+0100
TZNAME:CET
DTSTART:20221030T010000
END:STANDARD
BEGIN:DAYLIGHT
TZOFFSETFROM:+0100
TZOFFSETTO:+0200
TZNAME:CEST
DTSTART:20230326T010000
END:DAYLIGHT
BEGIN:STANDARD
TZOFFSETFROM:+0200
TZOFFSETTO:+0100
TZNAME:CET
DTSTART:20231029T010000
END:STANDARD
END:VTIMEZONE
BEGIN:VEVENT
DTSTART;VALUE=DATE:20220802
DTEND;VALUE=DATE:20220803
DTSTAMP:20260425T193127
CREATED:20220510T104635Z
LAST-MODIFIED:20220510T104635Z
UID:5669-1659398400-1659484799@www.moncontour-de-poitou.fr
SUMMARY:Salle polyvalente louée
DESCRIPTION:
URL:https://www.moncontour-de-poitou.fr/agenda/salle-polyvalente-louee-22/
CATEGORIES:MONCONTOUR : Salle Polyvalente
END:VEVENT
BEGIN:VEVENT
DTSTART;VALUE=DATE:20220827
DTEND;VALUE=DATE:20220829
DTSTAMP:20260425T193127
CREATED:20220510T104724Z
LAST-MODIFIED:20220510T104724Z
UID:5671-1661558400-1661731199@www.moncontour-de-poitou.fr
SUMMARY:Salle polyvalente louée
DESCRIPTION:
URL:https://www.moncontour-de-poitou.fr/agenda/salle-polyvalente-louee-23/
CATEGORIES:MONCONTOUR : Salle Polyvalente
END:VEVENT
END:VCALENDAR