BEGIN:VCALENDAR
VERSION:2.0
PRODID:-//Moncontour de Poitou dans la Vienne (86) - ECPv6.15.12.2//NONSGML v1.0//EN
CALSCALE:GREGORIAN
METHOD:PUBLISH
X-ORIGINAL-URL:https://www.moncontour-de-poitou.fr
X-WR-CALDESC:Évènements pour Moncontour de Poitou dans la Vienne (86)
REFRESH-INTERVAL;VALUE=DURATION:PT1H
X-Robots-Tag:noindex
X-PUBLISHED-TTL:PT1H
BEGIN:VTIMEZONE
TZID:Europe/Paris
BEGIN:DAYLIGHT
TZOFFSETFROM:+0100
TZOFFSETTO:+0200
TZNAME:CEST
DTSTART:20240331T010000
END:DAYLIGHT
BEGIN:STANDARD
TZOFFSETFROM:+0200
TZOFFSETTO:+0100
TZNAME:CET
DTSTART:20241027T010000
END:STANDARD
BEGIN:DAYLIGHT
TZOFFSETFROM:+0100
TZOFFSETTO:+0200
TZNAME:CEST
DTSTART:20250330T010000
END:DAYLIGHT
BEGIN:STANDARD
TZOFFSETFROM:+0200
TZOFFSETTO:+0100
TZNAME:CET
DTSTART:20251026T010000
END:STANDARD
BEGIN:DAYLIGHT
TZOFFSETFROM:+0100
TZOFFSETTO:+0200
TZNAME:CEST
DTSTART:20260329T010000
END:DAYLIGHT
BEGIN:STANDARD
TZOFFSETFROM:+0200
TZOFFSETTO:+0100
TZNAME:CET
DTSTART:20261025T010000
END:STANDARD
END:VTIMEZONE
BEGIN:VEVENT
DTSTART;VALUE=DATE:20250503
DTEND;VALUE=DATE:20250505
DTSTAMP:20260421T133504
CREATED:20241015T103222Z
LAST-MODIFIED:20241015T103222Z
UID:10948-1746230400-1746403199@www.moncontour-de-poitou.fr
SUMMARY:Salle Polyvalente louée
DESCRIPTION:
URL:https://www.moncontour-de-poitou.fr/agenda/salle-polyvalente-louee-100/
CATEGORIES:MONCONTOUR : Salle Polyvalente
END:VEVENT
BEGIN:VEVENT
DTSTART;VALUE=DATE:20250510
DTEND;VALUE=DATE:20250512
DTSTAMP:20260421T133504
CREATED:20241015T103318Z
LAST-MODIFIED:20241015T103318Z
UID:10950-1746835200-1747007999@www.moncontour-de-poitou.fr
SUMMARY:Salle Polyvalente louée
DESCRIPTION:
URL:https://www.moncontour-de-poitou.fr/agenda/salle-polyvalente-louee-101/
CATEGORIES:MONCONTOUR : Salle Polyvalente
END:VEVENT
BEGIN:VEVENT
DTSTART;VALUE=DATE:20250517
DTEND;VALUE=DATE:20250519
DTSTAMP:20260421T133504
CREATED:20241015T103439Z
LAST-MODIFIED:20241015T103439Z
UID:10954-1747440000-1747612799@www.moncontour-de-poitou.fr
SUMMARY:Salle Polyvalente louée
DESCRIPTION:
URL:https://www.moncontour-de-poitou.fr/agenda/salle-polyvalente-louee-102/
CATEGORIES:MONCONTOUR : Salle Polyvalente
END:VEVENT
BEGIN:VEVENT
DTSTART;VALUE=DATE:20250524
DTEND;VALUE=DATE:20250525
DTSTAMP:20260421T133504
CREATED:20241015T103608Z
LAST-MODIFIED:20241015T103608Z
UID:10958-1748044800-1748131199@www.moncontour-de-poitou.fr
SUMMARY:Salle Polyvalente louée
DESCRIPTION:
URL:https://www.moncontour-de-poitou.fr/agenda/salle-polyvalente-louee-103/
CATEGORIES:MONCONTOUR : Salle Polyvalente
END:VEVENT
BEGIN:VEVENT
DTSTART;VALUE=DATE:20250528
DTEND;VALUE=DATE:20250601
DTSTAMP:20260421T133504
CREATED:20240126T082036Z
LAST-MODIFIED:20240126T082036Z
UID:9291-1748390400-1748735999@www.moncontour-de-poitou.fr
SUMMARY:Salle Polyvalente louée
DESCRIPTION:
URL:https://www.moncontour-de-poitou.fr/agenda/salle-polyvalente-louee-84/
LOCATION:Salle polyvalente de Moncontour\, 19 rue Porte aux Dames\, MONCONTOUR\, 86330\, France
CATEGORIES:MONCONTOUR : Salle Polyvalente
END:VEVENT
END:VCALENDAR