BEGIN:VCALENDAR
VERSION:2.0
PRODID:-//Moncontour de Poitou dans la Vienne (86) - ECPv6.15.12.2//NONSGML v1.0//EN
CALSCALE:GREGORIAN
METHOD:PUBLISH
X-ORIGINAL-URL:https://www.moncontour-de-poitou.fr
X-WR-CALDESC:Évènements pour Moncontour de Poitou dans la Vienne (86)
REFRESH-INTERVAL;VALUE=DURATION:PT1H
X-Robots-Tag:noindex
X-PUBLISHED-TTL:PT1H
BEGIN:VTIMEZONE
TZID:Europe/Paris
BEGIN:DAYLIGHT
TZOFFSETFROM:+0100
TZOFFSETTO:+0200
TZNAME:CEST
DTSTART:20240331T010000
END:DAYLIGHT
BEGIN:STANDARD
TZOFFSETFROM:+0200
TZOFFSETTO:+0100
TZNAME:CET
DTSTART:20241027T010000
END:STANDARD
BEGIN:DAYLIGHT
TZOFFSETFROM:+0100
TZOFFSETTO:+0200
TZNAME:CEST
DTSTART:20250330T010000
END:DAYLIGHT
BEGIN:STANDARD
TZOFFSETFROM:+0200
TZOFFSETTO:+0100
TZNAME:CET
DTSTART:20251026T010000
END:STANDARD
BEGIN:DAYLIGHT
TZOFFSETFROM:+0100
TZOFFSETTO:+0200
TZNAME:CEST
DTSTART:20260329T010000
END:DAYLIGHT
BEGIN:STANDARD
TZOFFSETFROM:+0200
TZOFFSETTO:+0100
TZNAME:CET
DTSTART:20261025T010000
END:STANDARD
END:VTIMEZONE
BEGIN:VEVENT
DTSTART;VALUE=DATE:20250201
DTEND;VALUE=DATE:20250202
DTSTAMP:20260420T183548
CREATED:20241015T100814Z
LAST-MODIFIED:20241015T100846Z
UID:10910-1738368000-1738454399@www.moncontour-de-poitou.fr
SUMMARY:Gymnase
DESCRIPTION:
URL:https://www.moncontour-de-poitou.fr/agenda/gymnase-2/
CATEGORIES:Gymnase
END:VEVENT
BEGIN:VEVENT
DTSTART;VALUE=DATE:20250201
DTEND;VALUE=DATE:20250202
DTSTAMP:20260420T183548
CREATED:20241023T133147Z
LAST-MODIFIED:20241023T133147Z
UID:11086-1738368000-1738454399@www.moncontour-de-poitou.fr
SUMMARY:Salle des Fêtes de Messais louée
DESCRIPTION:
URL:https://www.moncontour-de-poitou.fr/agenda/salle-des-fetes-de-messais-louee-37/
CATEGORIES:MESSAIS : Salle des Fêtes
END:VEVENT
BEGIN:VEVENT
DTSTART;VALUE=DATE:20250201
DTEND;VALUE=DATE:20250203
DTSTAMP:20260420T183548
CREATED:20241015T100218Z
LAST-MODIFIED:20241015T100218Z
UID:10896-1738368000-1738540799@www.moncontour-de-poitou.fr
SUMMARY:Salle des Fêtes d'Ouzilly-Vignolles louée
DESCRIPTION:
URL:https://www.moncontour-de-poitou.fr/agenda/salle-des-fetes-douzilly-vignolles-louee-41/
CATEGORIES:OUZILLY-VIGNOLLES : Salle des Fêtes
END:VEVENT
BEGIN:VEVENT
DTSTART;TZID=Europe/Paris:20250201T110000
DTEND;TZID=Europe/Paris:20250201T123000
DTSTAMP:20260420T183548
CREATED:20250113T085502Z
LAST-MODIFIED:20250113T085502Z
UID:11606-1738407600-1738413000@www.moncontour-de-poitou.fr
SUMMARY:AG Amicale Populaire de Messais
DESCRIPTION:L’association Amicale Populaire de Messais organise son Assemblée Générale le samedi 01 février à 11h00 à la salle des fêtes de Messais.
URL:https://www.moncontour-de-poitou.fr/agenda/ag-amicale-populaire-de-messais-3/
LOCATION:Salle des Fêtes de Messais\, 21 rue de la Mairie\, MESSAIS\, 86330
CATEGORIES:Événements
END:VEVENT
BEGIN:VEVENT
DTSTART;TZID=Europe/Paris:20250201T133000
DTEND;TZID=Europe/Paris:20250201T170000
DTSTAMP:20260420T183548
CREATED:20240108T194913Z
LAST-MODIFIED:20241212T084211Z
UID:9074-1738416600-1738429200@www.moncontour-de-poitou.fr
SUMMARY:Concours de belote Foyer Rural d'Ouzilly-Vignolles
DESCRIPTION:L’association Foyer rural d’Ouzilly-Vignolles organise un concours de belote le samedi 1 février à la salle des fêtes d’Ouzilly-Vignolles.
URL:https://www.moncontour-de-poitou.fr/agenda/concours-de-belote-5/
CATEGORIES:Événements
END:VEVENT
BEGIN:VEVENT
DTSTART;VALUE=DATE:20250202
DTEND;VALUE=DATE:20250203
DTSTAMP:20260420T183548
CREATED:20241015T100131Z
LAST-MODIFIED:20241015T100131Z
UID:10894-1738454400-1738540799@www.moncontour-de-poitou.fr
SUMMARY:Salle Polyvalente louée
DESCRIPTION:
URL:https://www.moncontour-de-poitou.fr/agenda/salle-polyvalente-louee-91/
CATEGORIES:MONCONTOUR : Salle Polyvalente
END:VEVENT
BEGIN:VEVENT
DTSTART;VALUE=DATE:20250202
DTEND;VALUE=DATE:20250203
DTSTAMP:20260420T183548
CREATED:20250130T082127Z
LAST-MODIFIED:20250130T082127Z
UID:11776-1738454400-1738540799@www.moncontour-de-poitou.fr
SUMMARY:Salle du Foyer d'Ouzilly-Vignolles louée
DESCRIPTION:
URL:https://www.moncontour-de-poitou.fr/agenda/salle-du-foyer-douzilly-vignolles-louee-10/
CATEGORIES:OUZILLY-VIGNOLLES : Salle de l'ancienne école
END:VEVENT
BEGIN:VEVENT
DTSTART;TZID=Europe/Paris:20250202T140000
DTEND;TZID=Europe/Paris:20250202T180000
DTSTAMP:20260420T183548
CREATED:20240121T190352Z
LAST-MODIFIED:20241212T084331Z
UID:9170-1738504800-1738519200@www.moncontour-de-poitou.fr
SUMMARY:Chandeleur de l'AGAV
DESCRIPTION:L’association AGAV propose un après-midi jeux à la salle polyvalente de Moncontour.
URL:https://www.moncontour-de-poitou.fr/agenda/chandeleur/
CATEGORIES:Événements
END:VEVENT
BEGIN:VEVENT
DTSTART;VALUE=DATE:20250208
DTEND;VALUE=DATE:20250210
DTSTAMP:20260420T183548
CREATED:20241015T100912Z
LAST-MODIFIED:20241015T100912Z
UID:10912-1738972800-1739145599@www.moncontour-de-poitou.fr
SUMMARY:Gymnase
DESCRIPTION:
URL:https://www.moncontour-de-poitou.fr/agenda/gymnase-3/
CATEGORIES:Gymnase
END:VEVENT
BEGIN:VEVENT
DTSTART;TZID=Europe/Paris:20250208T180000
DTEND;TZID=Europe/Paris:20250208T190000
DTSTAMP:20260420T183548
CREATED:20200831T185803Z
LAST-MODIFIED:20250130T080054Z
UID:3173-1739037600-1739041200@www.moncontour-de-poitou.fr
SUMMARY:AG Vol libre
DESCRIPTION:L’association du Vol Libre Moncontourois organise son Assemblée Générale à la salle de la mairie le samedi 8 février à 18h00.
URL:https://www.moncontour-de-poitou.fr/agenda/ag-vol-libre/
LOCATION:Salle de la Mairie\, 1 Place Louise Lesage\, MONCONTOUR
CATEGORIES:Événements
END:VEVENT
BEGIN:VEVENT
DTSTART;VALUE=DATE:20250215
DTEND;VALUE=DATE:20250216
DTSTAMP:20260420T183548
CREATED:20241015T100340Z
LAST-MODIFIED:20241015T100340Z
UID:10900-1739577600-1739663999@www.moncontour-de-poitou.fr
SUMMARY:Salle des Fêtes de Saint-Chartres louée
DESCRIPTION:
URL:https://www.moncontour-de-poitou.fr/agenda/salle-des-fetes-de-saint-chartres-louee-32/
CATEGORIES:SAINT-CHARTRES : Salle des Fêtes
END:VEVENT
BEGIN:VEVENT
DTSTART;VALUE=DATE:20250215
DTEND;VALUE=DATE:20250216
DTSTAMP:20260420T183548
CREATED:20241015T100938Z
LAST-MODIFIED:20241015T101135Z
UID:10914-1739577600-1739663999@www.moncontour-de-poitou.fr
SUMMARY:Gymnase
DESCRIPTION:
URL:https://www.moncontour-de-poitou.fr/agenda/gymnase-4/
CATEGORIES:Gymnase
END:VEVENT
BEGIN:VEVENT
DTSTART;TZID=Europe/Paris:20250215T120000
DTEND;TZID=Europe/Paris:20250215T170000
DTSTAMP:20260420T183548
CREATED:20240108T195527Z
LAST-MODIFIED:20241212T084653Z
UID:9081-1739620800-1739638800@www.moncontour-de-poitou.fr
SUMMARY:Repas Bien Vivre à Saint-Chartres
DESCRIPTION:
URL:https://www.moncontour-de-poitou.fr/agenda/repas-a-st-chartres/
LOCATION:Salle des Fêtes de Saint-Chartres
CATEGORIES:Événements,SAINT-CHARTRES : Salle des Fêtes
END:VEVENT
BEGIN:VEVENT
DTSTART;TZID=Europe/Paris:20250221T190000
DTEND;TZID=Europe/Paris:20250221T220000
DTSTAMP:20260420T183548
CREATED:20250120T094419Z
LAST-MODIFIED:20250120T094524Z
UID:11704-1740164400-1740175200@www.moncontour-de-poitou.fr
SUMMARY:AG Brync&Co
DESCRIPTION:L’association Brync&Co organise son assemblée générale le vendredi 21 février à 19h00 à la salle de la mairie de Moncontour.
URL:https://www.moncontour-de-poitou.fr/agenda/ag-bryncco/
LOCATION:Salle de la Mairie\, 1 Place Louise Lesage\, MONCONTOUR
CATEGORIES:Événements
END:VEVENT
BEGIN:VEVENT
DTSTART;VALUE=DATE:20250223
DTEND;VALUE=DATE:20250224
DTSTAMP:20260420T183548
CREATED:20250120T112203Z
LAST-MODIFIED:20250120T112203Z
UID:11708-1740268800-1740355199@www.moncontour-de-poitou.fr
SUMMARY:Salle Polyvalente louée
DESCRIPTION:
URL:https://www.moncontour-de-poitou.fr/agenda/salle-polyvalente-louee-92/
CATEGORIES:MONCONTOUR : Salle Polyvalente
END:VEVENT
END:VCALENDAR