BEGIN:VCALENDAR
VERSION:2.0
PRODID:-//Moncontour de Poitou dans la Vienne (86) - ECPv6.15.12.2//NONSGML v1.0//EN
CALSCALE:GREGORIAN
METHOD:PUBLISH
X-ORIGINAL-URL:https://www.moncontour-de-poitou.fr
X-WR-CALDESC:Évènements pour Moncontour de Poitou dans la Vienne (86)
REFRESH-INTERVAL;VALUE=DURATION:PT1H
X-Robots-Tag:noindex
X-PUBLISHED-TTL:PT1H
BEGIN:VTIMEZONE
TZID:Europe/Paris
BEGIN:DAYLIGHT
TZOFFSETFROM:+0100
TZOFFSETTO:+0200
TZNAME:CEST
DTSTART:20240331T010000
END:DAYLIGHT
BEGIN:STANDARD
TZOFFSETFROM:+0200
TZOFFSETTO:+0100
TZNAME:CET
DTSTART:20241027T010000
END:STANDARD
BEGIN:DAYLIGHT
TZOFFSETFROM:+0100
TZOFFSETTO:+0200
TZNAME:CEST
DTSTART:20250330T010000
END:DAYLIGHT
BEGIN:STANDARD
TZOFFSETFROM:+0200
TZOFFSETTO:+0100
TZNAME:CET
DTSTART:20251026T010000
END:STANDARD
BEGIN:DAYLIGHT
TZOFFSETFROM:+0100
TZOFFSETTO:+0200
TZNAME:CEST
DTSTART:20260329T010000
END:DAYLIGHT
BEGIN:STANDARD
TZOFFSETFROM:+0200
TZOFFSETTO:+0100
TZNAME:CET
DTSTART:20261025T010000
END:STANDARD
END:VTIMEZONE
BEGIN:VEVENT
DTSTART;VALUE=DATE:20250301
DTEND;VALUE=DATE:20250302
DTSTAMP:20260420T172211
CREATED:20241015T101159Z
LAST-MODIFIED:20241015T101159Z
UID:10916-1740787200-1740873599@www.moncontour-de-poitou.fr
SUMMARY:Gymnase
DESCRIPTION:
URL:https://www.moncontour-de-poitou.fr/agenda/gymnase-5/
CATEGORIES:Gymnase
END:VEVENT
BEGIN:VEVENT
DTSTART;VALUE=DATE:20250301
DTEND;VALUE=DATE:20250302
DTSTAMP:20260420T172211
CREATED:20241029T150143Z
LAST-MODIFIED:20241029T150143Z
UID:11109-1740787200-1740873599@www.moncontour-de-poitou.fr
SUMMARY:Salle des Fêtes de Messais louée
DESCRIPTION:
URL:https://www.moncontour-de-poitou.fr/agenda/salle-des-fetes-de-messais-louee-39/
CATEGORIES:MESSAIS : Salle des Fêtes
END:VEVENT
BEGIN:VEVENT
DTSTART;VALUE=DATE:20250301
DTEND;VALUE=DATE:20250303
DTSTAMP:20260420T172211
CREATED:20241015T101247Z
LAST-MODIFIED:20241015T101247Z
UID:10918-1740787200-1740959999@www.moncontour-de-poitou.fr
SUMMARY:Salle Polyvalente louée
DESCRIPTION:
URL:https://www.moncontour-de-poitou.fr/agenda/salle-polyvalente-louee-93/
CATEGORIES:MONCONTOUR : Salle Polyvalente
END:VEVENT
BEGIN:VEVENT
DTSTART;TZID=Europe/Paris:20250301T090000
DTEND;TZID=Europe/Paris:20250301T190000
DTSTAMP:20260420T172211
CREATED:20230107T155737Z
LAST-MODIFIED:20241212T084739Z
UID:6808-1740819600-1740855600@www.moncontour-de-poitou.fr
SUMMARY:Troc Pêche
DESCRIPTION:L’Association AAPPMA truite moncontouroise organise un troc pêche de 9h à 19h au gymnase Jeanne Moutret à Moncontour de Poitou.
URL:https://www.moncontour-de-poitou.fr/agenda/ag-equiliberte-2/
CATEGORIES:Événements
END:VEVENT
BEGIN:VEVENT
DTSTART;VALUE=DATE:20250307
DTEND;VALUE=DATE:20250309
DTSTAMP:20260420T172211
CREATED:20241023T133232Z
LAST-MODIFIED:20250106T131052Z
UID:11088-1741305600-1741478399@www.moncontour-de-poitou.fr
SUMMARY:Salle des Fêtes de Messais
DESCRIPTION:
URL:https://www.moncontour-de-poitou.fr/agenda/salle-des-fetes-de-messais/
CATEGORIES:MESSAIS : Salle des Fêtes
END:VEVENT
BEGIN:VEVENT
DTSTART;TZID=Europe/Paris:20250308T080000
DTEND;TZID=Europe/Paris:20250308T190000
DTSTAMP:20260420T172211
CREATED:20240126T100051Z
LAST-MODIFIED:20241212T085917Z
UID:9301-1741420800-1741460400@www.moncontour-de-poitou.fr
SUMMARY:Ouverture de la truites
DESCRIPTION:
URL:https://www.moncontour-de-poitou.fr/agenda/lacher-de-truites/
LOCATION:Etang du Havre
CATEGORIES:Événements
END:VEVENT
BEGIN:VEVENT
DTSTART;TZID=Europe/Paris:20250308T090000
DTEND;TZID=Europe/Paris:20250308T160000
DTSTAMP:20260420T172211
CREATED:20250113T092702Z
LAST-MODIFIED:20250113T103510Z
UID:11608-1741424400-1741449600@www.moncontour-de-poitou.fr
SUMMARY:Randonnée Amicale Populaire de Messais
DESCRIPTION:L’association Amicale Populaire de Messais organise une randonnée le samedi 8 mars à 9h00 depuis la salle des fêtes de Messais ainsi qu’un repas qui suit la marche.
URL:https://www.moncontour-de-poitou.fr/agenda/randonnee-amicale-populaire-de-messais/
LOCATION:Salle des Fêtes de Messais\, 21 rue de la Mairie\, MESSAIS\, 86330
CATEGORIES:Événements
END:VEVENT
BEGIN:VEVENT
DTSTART;VALUE=DATE:20250309
DTEND;VALUE=DATE:20250310
DTSTAMP:20260420T172211
CREATED:20241015T101419Z
LAST-MODIFIED:20241015T101419Z
UID:10922-1741478400-1741564799@www.moncontour-de-poitou.fr
SUMMARY:Gymnase
DESCRIPTION:
URL:https://www.moncontour-de-poitou.fr/agenda/gymnase-6/
CATEGORIES:Gymnase
END:VEVENT
BEGIN:VEVENT
DTSTART;VALUE=DATE:20250311
DTEND;VALUE=DATE:20250312
DTSTAMP:20260420T172211
CREATED:20241015T101459Z
LAST-MODIFIED:20241015T101459Z
UID:10924-1741651200-1741737599@www.moncontour-de-poitou.fr
SUMMARY:Salle des Fêtes de Saint-Chartres louée
DESCRIPTION:
URL:https://www.moncontour-de-poitou.fr/agenda/salle-des-fetes-de-saint-chartres-louee-33/
CATEGORIES:SAINT-CHARTRES : Salle des Fêtes
END:VEVENT
BEGIN:VEVENT
DTSTART;VALUE=DATE:20250315
DTEND;VALUE=DATE:20250317
DTSTAMP:20260420T172211
CREATED:20241015T101541Z
LAST-MODIFIED:20241015T101541Z
UID:10926-1741996800-1742169599@www.moncontour-de-poitou.fr
SUMMARY:Gymnase
DESCRIPTION:
URL:https://www.moncontour-de-poitou.fr/agenda/gymnase-7/
CATEGORIES:Gymnase
END:VEVENT
BEGIN:VEVENT
DTSTART;TZID=Europe/Paris:20250315T100000
DTEND;TZID=Europe/Paris:20250316T170000
DTSTAMP:20260420T172211
CREATED:20240121T143154Z
LAST-MODIFIED:20241212T091947Z
UID:9156-1742032800-1742144400@www.moncontour-de-poitou.fr
SUMMARY:Structures gonflables
DESCRIPTION:L’Association de Parents d’Elèves (APE) organise un week-end pour les enfants avec de multiples structures gonflables installées au gymnase Jeanne Moutret de Moncontour de Poitou.
URL:https://www.moncontour-de-poitou.fr/agenda/structure-gonflable/
LOCATION:Gymnase de Moncontour
CATEGORIES:Événements
END:VEVENT
BEGIN:VEVENT
DTSTART;TZID=Europe/Paris:20250315T183000
DTEND;TZID=Europe/Paris:20250315T200000
DTSTAMP:20260420T172211
CREATED:20250222T082717Z
LAST-MODIFIED:20250222T083110Z
UID:1883-1742063400-1742068800@www.moncontour-de-poitou.fr
SUMMARY:AG don du sang
DESCRIPTION:L’association des donneurs de sang organise son Assemblée Générale dans la salle des fêtes de St jean de Sauves le samedi 15 mars 2025 à 18h30.
URL:https://www.moncontour-de-poitou.fr/agenda/ag-don-du-sang/
CATEGORIES:Événements
END:VEVENT
BEGIN:VEVENT
DTSTART;TZID=Europe/Paris:20250316T080000
DTEND;TZID=Europe/Paris:20250316T123000
DTSTAMP:20260420T172211
CREATED:20250109T105457Z
LAST-MODIFIED:20250109T105457Z
UID:11578-1742112000-1742128200@www.moncontour-de-poitou.fr
SUMMARY:Marche Bien vivre
DESCRIPTION:Bien Vivre Saint-Chartres organise une marche le 16 Mars.
URL:https://www.moncontour-de-poitou.fr/agenda/marche-bien-vivre-5/
CATEGORIES:Événements
END:VEVENT
BEGIN:VEVENT
DTSTART;TZID=Europe/Paris:20250318T120000
DTEND;TZID=Europe/Paris:20250318T160000
DTSTAMP:20260420T172211
CREATED:20191218T150114Z
LAST-MODIFIED:20250310T093259Z
UID:1283-1742299200-1742313600@www.moncontour-de-poitou.fr
SUMMARY:Choucroute du Club de l'amitié St Chartres
DESCRIPTION:Le Club de l’amitié de Saint Chartres vous invite à sa choucroute.
URL:https://www.moncontour-de-poitou.fr/agenda/ag-club-de-lamitie-2/
CATEGORIES:Événements
END:VEVENT
BEGIN:VEVENT
DTSTART;VALUE=DATE:20250319
DTEND;VALUE=DATE:20250320
DTSTAMP:20260420T172211
CREATED:20250218T131305Z
LAST-MODIFIED:20250321T114353Z
UID:11845-1742342400-1742428799@www.moncontour-de-poitou.fr
SUMMARY:Salle de l'ancienne école d'Ouzilly-Vignolles louée
DESCRIPTION:
URL:https://www.moncontour-de-poitou.fr/agenda/salle-du-foyer-douzilly-vignolles-louee-12/
CATEGORIES:OUZILLY-VIGNOLLES : Salle de l'ancienne école
END:VEVENT
BEGIN:VEVENT
DTSTART;TZID=Europe/Paris:20250321T193000
DTEND;TZID=Europe/Paris:20250321T203000
DTSTAMP:20260420T172211
CREATED:20240121T143645Z
LAST-MODIFIED:20241212T092916Z
UID:9163-1742585400-1742589000@www.moncontour-de-poitou.fr
SUMMARY:AG Poitou Shreding
DESCRIPTION:L’association Poitou Shreding (liée au téléski de Moncontour) organise son assemblée générale à la mairie.
URL:https://www.moncontour-de-poitou.fr/agenda/ag-poitou-shreding/
CATEGORIES:Événements
END:VEVENT
BEGIN:VEVENT
DTSTART;VALUE=DATE:20250322
DTEND;VALUE=DATE:20250323
DTSTAMP:20260420T172211
CREATED:20241015T101711Z
LAST-MODIFIED:20241015T101711Z
UID:10930-1742601600-1742687999@www.moncontour-de-poitou.fr
SUMMARY:Gymnase
DESCRIPTION:
URL:https://www.moncontour-de-poitou.fr/agenda/gymnase-8/
CATEGORIES:Gymnase
END:VEVENT
BEGIN:VEVENT
DTSTART;TZID=Europe/Paris:20250322T080000
DTEND;TZID=Europe/Paris:20250322T170000
DTSTAMP:20260420T172211
CREATED:20241015T101755Z
LAST-MODIFIED:20241015T101755Z
UID:10932-1742630400-1742662800@www.moncontour-de-poitou.fr
SUMMARY:Salle des Fêtes de Saint-Chartres louée
DESCRIPTION:
URL:https://www.moncontour-de-poitou.fr/agenda/salle-des-fetes-de-saint-chartres-louee-34/
CATEGORIES:SAINT-CHARTRES : Salle des Fêtes
END:VEVENT
BEGIN:VEVENT
DTSTART;TZID=Europe/Paris:20250322T100000
DTEND;TZID=Europe/Paris:20250322T170000
DTSTAMP:20260420T172211
CREATED:20240126T114038Z
LAST-MODIFIED:20241212T093141Z
UID:9317-1742637600-1742662800@www.moncontour-de-poitou.fr
SUMMARY:Marche de la Tar'Dive
DESCRIPTION:L’association La Tar’Dive organise une marche à Saint-Chartres le samedi 22 mars.
URL:https://www.moncontour-de-poitou.fr/agenda/marche-9/
LOCATION:Salle des Fêtes de Messais\, 21 rue de la Mairie\, MESSAIS\, 86330
CATEGORIES:Événements
END:VEVENT
BEGIN:VEVENT
DTSTART;TZID=Europe/Paris:20250326T150000
DTEND;TZID=Europe/Paris:20250326T190000
DTSTAMP:20260420T172211
CREATED:20250222T083013Z
LAST-MODIFIED:20250222T083613Z
UID:4391-1743001200-1743015600@www.moncontour-de-poitou.fr
SUMMARY:don du sang
DESCRIPTION:L’association des donneurs de sang du secteur de Saint Jean de sauves organise une collecte de sang à Saint Jean de Sauves\, salle des fêtes de 15h à 19h le mercredi 26 mars.
URL:https://www.moncontour-de-poitou.fr/agenda/don-du-sang-5/
END:VEVENT
BEGIN:VEVENT
DTSTART;VALUE=DATE:20250329
DTEND;VALUE=DATE:20250330
DTSTAMP:20260420T172211
CREATED:20241015T101912Z
LAST-MODIFIED:20241015T101912Z
UID:10934-1743206400-1743292799@www.moncontour-de-poitou.fr
SUMMARY:Salle Polyvalente louée
DESCRIPTION:
URL:https://www.moncontour-de-poitou.fr/agenda/salle-polyvalente-louee-96/
CATEGORIES:MONCONTOUR : Salle Polyvalente
END:VEVENT
BEGIN:VEVENT
DTSTART;TZID=Europe/Paris:20250329T120000
DTEND;TZID=Europe/Paris:20250329T180000
DTSTAMP:20260420T172211
CREATED:20250311T101408Z
LAST-MODIFIED:20250319T144145Z
UID:11906-1743249600-1743271200@www.moncontour-de-poitou.fr
SUMMARY:Ouverture du TNM
DESCRIPTION:L’association POITOU SHREDING lance la saison du téléski le samedi 29 mars de 12H à 18H. \nJournée gratuite pour les plus de 10 ans et sans réservation. \nToute l’équipe vous attend  nombreux.
URL:https://www.moncontour-de-poitou.fr/agenda/ouverture-du-tnm/
LOCATION:Lac du Mâgne
CATEGORIES:Événements
END:VEVENT
END:VCALENDAR