BEGIN:VCALENDAR
VERSION:2.0
PRODID:-//Moncontour de Poitou dans la Vienne (86) - ECPv6.15.12.2//NONSGML v1.0//EN
CALSCALE:GREGORIAN
METHOD:PUBLISH
X-ORIGINAL-URL:https://www.moncontour-de-poitou.fr
X-WR-CALDESC:Évènements pour Moncontour de Poitou dans la Vienne (86)
REFRESH-INTERVAL;VALUE=DURATION:PT1H
X-Robots-Tag:noindex
X-PUBLISHED-TTL:PT1H
BEGIN:VTIMEZONE
TZID:Europe/Paris
BEGIN:DAYLIGHT
TZOFFSETFROM:+0100
TZOFFSETTO:+0200
TZNAME:CEST
DTSTART:20250330T010000
END:DAYLIGHT
BEGIN:STANDARD
TZOFFSETFROM:+0200
TZOFFSETTO:+0100
TZNAME:CET
DTSTART:20251026T010000
END:STANDARD
BEGIN:DAYLIGHT
TZOFFSETFROM:+0100
TZOFFSETTO:+0200
TZNAME:CEST
DTSTART:20260329T010000
END:DAYLIGHT
BEGIN:STANDARD
TZOFFSETFROM:+0200
TZOFFSETTO:+0100
TZNAME:CET
DTSTART:20261025T010000
END:STANDARD
BEGIN:DAYLIGHT
TZOFFSETFROM:+0100
TZOFFSETTO:+0200
TZNAME:CEST
DTSTART:20270328T010000
END:DAYLIGHT
BEGIN:STANDARD
TZOFFSETFROM:+0200
TZOFFSETTO:+0100
TZNAME:CET
DTSTART:20271031T010000
END:STANDARD
END:VTIMEZONE
BEGIN:VEVENT
DTSTART;VALUE=DATE:20261107
DTEND;VALUE=DATE:20261108
DTSTAMP:20260420T120943
CREATED:20251031T153527Z
LAST-MODIFIED:20251031T153527Z
UID:12868-1794009600-1794095999@www.moncontour-de-poitou.fr
SUMMARY:Salle Polyvalente louée
DESCRIPTION:
URL:https://www.moncontour-de-poitou.fr/agenda/salle-polyvalente-louee-142/
CATEGORIES:MONCONTOUR : Salle Polyvalente
END:VEVENT
BEGIN:VEVENT
DTSTART;VALUE=DATE:20261114
DTEND;VALUE=DATE:20261115
DTSTAMP:20260420T120943
CREATED:20251031T145555Z
LAST-MODIFIED:20251031T145609Z
UID:12806-1794614400-1794700799@www.moncontour-de-poitou.fr
SUMMARY:Salle des Fêtes de Saint-Chartres louée
DESCRIPTION:
URL:https://www.moncontour-de-poitou.fr/agenda/salle-des-fetes-de-saint-chartres-louee-51/
CATEGORIES:SAINT-CHARTRES : Salle des Fêtes
END:VEVENT
BEGIN:VEVENT
DTSTART;VALUE=DATE:20261114
DTEND;VALUE=DATE:20261116
DTSTAMP:20260420T120943
CREATED:20251104T082926Z
LAST-MODIFIED:20251104T082926Z
UID:12898-1794614400-1794787199@www.moncontour-de-poitou.fr
SUMMARY:Salle Polyvalente louée
DESCRIPTION:
URL:https://www.moncontour-de-poitou.fr/agenda/salle-polyvalente-louee-147/
CATEGORIES:MONCONTOUR : Salle Polyvalente
END:VEVENT
BEGIN:VEVENT
DTSTART;VALUE=DATE:20261121
DTEND;VALUE=DATE:20261122
DTSTAMP:20260420T120943
CREATED:20251031T145650Z
LAST-MODIFIED:20251031T150858Z
UID:12808-1795219200-1795305599@www.moncontour-de-poitou.fr
SUMMARY:Salle des Fêtes de Messais louée
DESCRIPTION:
URL:https://www.moncontour-de-poitou.fr/agenda/salle-des-fetes-de-messais-louee-54/
CATEGORIES:MESSAIS : Salle des Fêtes
END:VEVENT
BEGIN:VEVENT
DTSTART;VALUE=DATE:20261122
DTEND;VALUE=DATE:20261123
DTSTAMP:20260420T120943
CREATED:20251031T153554Z
LAST-MODIFIED:20251031T155559Z
UID:12870-1795305600-1795391999@www.moncontour-de-poitou.fr
SUMMARY:Salle Polyvalente louée
DESCRIPTION:
URL:https://www.moncontour-de-poitou.fr/agenda/salle-polyvalente-louee-143/
CATEGORIES:MONCONTOUR : Salle Polyvalente
END:VEVENT
BEGIN:VEVENT
DTSTART;VALUE=DATE:20261128
DTEND;VALUE=DATE:20261129
DTSTAMP:20260420T120943
CREATED:20260127T141505Z
LAST-MODIFIED:20260127T141505Z
UID:13287-1795824000-1795910399@www.moncontour-de-poitou.fr
SUMMARY:Salle des Fêtes d'Ouzilly-Vignolles louée
DESCRIPTION:
URL:https://www.moncontour-de-poitou.fr/agenda/salle-des-fetes-douzilly-vignolles-louee-78/
CATEGORIES:OUZILLY-VIGNOLLES : Salle des Fêtes
END:VEVENT
END:VCALENDAR